BEGIN:VCALENDAR
VERSION:2.0
PRODID:-// - ECPv6.2.8//NONSGML v1.0//EN
CALSCALE:GREGORIAN
METHOD:PUBLISH
X-ORIGINAL-URL:https://scetw.acm.org
X-WR-CALDESC:Events for 
REFRESH-INTERVAL;VALUE=DURATION:PT1H
X-Robots-Tag:noindex
X-PUBLISHED-TTL:PT1H
BEGIN:VTIMEZONE
TZID:UTC
BEGIN:STANDARD
TZOFFSETFROM:+0000
TZOFFSETTO:+0000
TZNAME:UTC
DTSTART:20240101T000000
END:STANDARD
TZID:Asia/Kolkata
BEGIN:STANDARD
TZOFFSETFROM:+0530
TZOFFSETTO:+0530
TZNAME:IST
DTSTART:20240101T000000
END:STANDARD
END:VTIMEZONE
BEGIN:VEVENT
DTSTART;TZID=UTC:20240130T130000
DTEND;TZID=UTC:20240130T143000
DTSTAMP:20260426T032001
CREATED:20240203T103927Z
LAST-MODIFIED:20240203T110802Z
UID:1982-1706619600-1706625000@scetw.acm.org
SUMMARY:ACM Tech Symposium: A Discussion about tomorrow’s wonders
DESCRIPTION:https://scetw.acm.org/acm-tech-symposium-a-discussion-about-tomorrows-wonders/‎ \nObjective:\nTo strategize the future direction of the ACM student chapter\, including plans for organizational improvements\, volunteer recruitment\, and event ideation. Additionally\, to engage in a group discussion about technological advancements and their implications. \nIntroduction:\nThe ACM Board assembled today for a dual-purpose meeting\, commencing with a lunch gathering to deliberate on the trajectory of our student chapter\, followed by an insightful discussion on emerging technological trends within the quiet setting of the campus digital library. \nLuncheon Meeting:\nThe lunch gathering was an informal however productive atmosphere for the Board members to exchange ideas regarding the enhancement of our ACM student chapter. Discussions revolved around devising strategies to invigorate the body\, thus keeping it active and increase volunteer participation\, planning to gain more students from all departments to be volunteers in the ACM Student Chapter\, and arrange a broad spectrum of activities\, plan a wide range of events for students to take part in\, and learn something from them\, to cater to the interests of our members. \nGallery\n \n \n \n \n  \nACM Tech Symposium: A Discussion about tomorrow’s wonders
URL:https://scetw.acm.org/event/acm-tech-symposium-a-discussion-about-tomorrows-wonders/
LOCATION:Campus Cafeteria (Lunch Gathering) & Campus Library\, Stanley College of Engineering & Technology for Women\, Hyderabad\, Telangana\, 500001\, India
ORGANIZER;CN="SCETW ACM-W Student Chapter":MAILTO:scetwacm@stanley.edu.in
END:VEVENT
BEGIN:VEVENT
DTSTART;TZID=UTC:20240306T063000
DTEND;TZID=UTC:20240306T193000
DTSTAMP:20260426T032001
CREATED:20240322T172656Z
LAST-MODIFIED:20240322T173239Z
UID:2040-1709706600-1709753400@scetw.acm.org
SUMMARY:From Research and Innovation to Comercialisation
DESCRIPTION:Aiming to achieve the vision of honorable Prime Minister of India Shri Narendra Modi Ji and the initiative of Ministry of Education\, Government of India in collaboration with AICTE\, a series of seminars are organizing across the country to discuss the transformation changes that has laid to the foundation of Vikasit Bharat by 2047. In Continuation to this series\, Stanley college of Engineering and Technology\, Hyderabad organized an online event on 6th March 2024\, a discussion on “From Research and Commercialism” for students and faculty of HEIs. Dr. Zahoorullah S MD\, Chief Innovation Officer\, Atal Incubation Centre\, ALEAP WEHUB was invited as a guest speaker in this session. It was followed by an inquisitive Question and Answer session. Around 130 participants including students and Faculty attended the event. \n  \nFrom Research and Innovation to Comercialisation
URL:https://scetw.acm.org/event/from-research-and-innovation-to-comercialisation/
END:VEVENT
BEGIN:VEVENT
DTSTART;TZID=UTC:20240528T200000
DTEND;TZID=UTC:20240528T213000
DTSTAMP:20260426T032001
CREATED:20240706T132835Z
LAST-MODIFIED:20240706T132844Z
UID:2087-1716926400-1716931800@scetw.acm.org
SUMMARY:“Building Bridges: Promoting Gender Sensitization and Understanding”
DESCRIPTION:https://scetw.acm.org/building-bridges-promoting-gender-sensitization-and-understanding \nObjective – To engage in insightful discussions about gender equalities\, gender sensitization\, and gender issues\, aiming to raise awareness and promote inclusivity\, while also exploring the latest research and developments in the field of gender empowerment and equality. Through this dialogue\, our goal is to delve into the historical context\, current challenges\, and future prospects of gender empowerment and equality\, with a particular focus on addressing systemic inequalities and promoting intersectional approaches to gender justice.
URL:https://scetw.acm.org/event/building-bridges-promoting-gender-sensitization-and-understanding/
LOCATION:Google Meet\, India
ORGANIZER;CN="SCETW ACM-W Student Chapter":MAILTO:scetwacm@stanley.edu.in
END:VEVENT
BEGIN:VEVENT
DTSTART;TZID=UTC:20240605T200000
DTEND;TZID=UTC:20240605T213000
DTSTAMP:20260426T032001
CREATED:20240706T133045Z
LAST-MODIFIED:20240706T133045Z
UID:2090-1717617600-1717623000@scetw.acm.org
SUMMARY:“Green Horizons: Pioneering Environmental Change”
DESCRIPTION:https://scetw.acm.org/green-horizons-pioneering-environmental-change/ \nObjective – To delve into meaningful conversations about the importance of greenery\, conservation efforts for the Earth\, and fostering a sustainable environment. Through this discussion\, we aim to raise awareness about the critical role of green spaces in preserving biodiversity and mitigating climate change. Our goal is to brainstorm actionable ideas and initiatives to promote environmental stewardship and protect our planet’s natural resources.
URL:https://scetw.acm.org/event/green-horizons-pioneering-environmental-change/
LOCATION:Google Meet\, India
ORGANIZER;CN="SCETW ACM-W Student Chapter":MAILTO:scetwacm@stanley.edu.in
END:VEVENT
BEGIN:VEVENT
DTSTART;VALUE=DATE:20240726
DTEND;VALUE=DATE:20240727
DTSTAMP:20260426T032001
CREATED:20250722T132741Z
LAST-MODIFIED:20250722T132840Z
UID:2384-1721952000-1722038399@scetw.acm.org
SUMMARY:Empowered We
DESCRIPTION:
URL:https://scetw.acm.org/event/empowered-we/
CATEGORIES:Calendar,Events
END:VEVENT
BEGIN:VEVENT
DTSTART;TZID=Asia/Kolkata:20240726T093000
DTEND;TZID=Asia/Kolkata:20240726T163000
DTSTAMP:20260426T032001
CREATED:20240724T075016Z
LAST-MODIFIED:20250722T132849Z
UID:2131-1721986200-1722011400@scetw.acm.org
SUMMARY:EMPOWERED WE EXPO (Connect\, Learn\, Empower)
DESCRIPTION:Stanley College of Engineering and Technology for women is proud to announce the EMPOWERED WE EXPO\, a groundbreaking event dedicated to celebrating and supporting Women Entrepreneurs. The expo serves as a testament to our commitment to fostering an entrepreneurial mindset and empowering future women leaders in technology. Together\, we aim to build a supportive ecosystem that champions diversity\, creativity\, and the entrepreneurial spirit.\nEMPOWERED WE \n \n 
URL:https://scetw.acm.org/event/empowered-we-expo/
LOCATION:Stanley College of Engineering and Technology for Women\, H. No. 5-78 to 82\, B-1-80 & 5-9-81\, Chapel Road\, Fateh Maidan\, Abids\, Hyderabad\, Telangana - 500001.\, Hyderabad\, Telangana\, 500001\, India
CATEGORIES:Calendar,Events
ORGANIZER;CN="SCETW ACM-W Student Chapter":MAILTO:scetwacm@stanley.edu.in
END:VEVENT
BEGIN:VEVENT
DTSTART;TZID=UTC:20241116T100000
DTEND;TZID=UTC:20241116T180000
DTSTAMP:20260426T032001
CREATED:20241108T114125Z
LAST-MODIFIED:20250722T132933Z
UID:2157-1731751200-1731780000@scetw.acm.org
SUMMARY:Stanley and BITS Hyderabad Joint Hackathon
DESCRIPTION:The Stanley College ACM-W Board\, in collaboration with BITS Hyderabad\, hosted a dynamic joint hackathon designed to empower participants in exploring and advancing their technical skills. This hackathon provided a platform for participants to engage in problem-solving across three in-demand domains: Web Development\, Machine Learning (ML)\, and Natural Language Processing (NLP). By focusing on these areas\, the event catered to a diverse range of interests and allowed students to delve into real-world challenges in the tech landscape. \nThe hackathon began with an introduction to the selected problem statements and allowed participants to form teams aligned with their areas of expertise. As a result\, the hackathon not only offered a competitive environment but also fostered collaboration and knowledge sharing among students from both institutions.
URL:https://scetw.acm.org/event/stanley-and-bits-hyderabad-joint-hackathon/
LOCATION:Bits Pilani \, Hyd campus – J block\, Birla Institute of Technology & Science\, Pilani Hyderabad Campus Jawahar Nagar\, Kapra Mandal Medchal District - 500 078 Telangana\, India\, Hyderabad\, Telangana\, 500 078\, India
CATEGORIES:Calendar,Events
ORGANIZER;CN="SCETW ACM-W Student Chapter":MAILTO:scetwacm@stanley.edu.in
END:VEVENT
BEGIN:VEVENT
DTSTART;TZID=UTC:20241220T080000
DTEND;TZID=UTC:20241221T170000
DTSTAMP:20260426T032001
CREATED:20250722T133057Z
LAST-MODIFIED:20250722T133116Z
UID:2388-1734681600-1734800400@scetw.acm.org
SUMMARY:ACM India Chapter Summit 2024
DESCRIPTION:
URL:https://scetw.acm.org/event/acm-india-chapter-summit-2024/
CATEGORIES:Calendar,Events
END:VEVENT
BEGIN:VEVENT
DTSTART;TZID=UTC:20250309T080000
DTEND;TZID=UTC:20250309T170000
DTSTAMP:20260426T032001
CREATED:20250722T133526Z
LAST-MODIFIED:20250722T133526Z
UID:2393-1741507200-1741539600@scetw.acm.org
SUMMARY:Candid Campus Queens
DESCRIPTION:
URL:https://scetw.acm.org/event/candid-campus-queens/
CATEGORIES:Calendar,Events
END:VEVENT
BEGIN:VEVENT
DTSTART;VALUE=DATE:20250317
DTEND;VALUE=DATE:20250318
DTSTAMP:20260426T032001
CREATED:20250722T133200Z
LAST-MODIFIED:20250722T133209Z
UID:2390-1742169600-1742255999@scetw.acm.org
SUMMARY:Pitch Perfectly Useless
DESCRIPTION:
URL:https://scetw.acm.org/event/pitch-perfectly-useless/
CATEGORIES:Calendar,Events
END:VEVENT
BEGIN:VEVENT
DTSTART;TZID=UTC:20250405T140000
DTEND;TZID=UTC:20250405T160000
DTSTAMP:20260426T032001
CREATED:20250405T133127Z
LAST-MODIFIED:20250722T132909Z
UID:2337-1743861600-1743868800@scetw.acm.org
SUMMARY:Town Hall For ACM STUDENTS
DESCRIPTION:   \n \n 
URL:https://scetw.acm.org/event/town-hall-for-acm-students/
CATEGORIES:Calendar,Events
END:VEVENT
BEGIN:VEVENT
DTSTART;TZID=UTC:20250412T080000
DTEND;TZID=UTC:20250412T170000
DTSTAMP:20260426T032001
CREATED:20250722T133554Z
LAST-MODIFIED:20250722T133554Z
UID:2395-1744444800-1744477200@scetw.acm.org
SUMMARY:AI BOT Wars
DESCRIPTION:
URL:https://scetw.acm.org/event/ai-bot-wars/
CATEGORIES:Calendar,Events
END:VEVENT
BEGIN:VEVENT
DTSTART;TZID=UTC:20250414T080000
DTEND;TZID=UTC:20250414T170000
DTSTAMP:20260426T032001
CREATED:20250722T133625Z
LAST-MODIFIED:20250722T133640Z
UID:2397-1744617600-1744650000@scetw.acm.org
SUMMARY:Marketing Genius?!
DESCRIPTION:
URL:https://scetw.acm.org/event/marketing-genius/
CATEGORIES:Calendar,Events
END:VEVENT
BEGIN:VEVENT
DTSTART;TZID=UTC:20250418T080000
DTEND;TZID=UTC:20250418T170000
DTSTAMP:20260426T032001
CREATED:20250722T133714Z
LAST-MODIFIED:20250722T133714Z
UID:2399-1744963200-1744995600@scetw.acm.org
SUMMARY:404 - PAGE NOT FOUND
DESCRIPTION:
URL:https://scetw.acm.org/event/404-page-not-found/
CATEGORIES:Calendar,Events
END:VEVENT
BEGIN:VEVENT
DTSTART;TZID=UTC:20250421T080000
DTEND;TZID=UTC:20250425T170000
DTSTAMP:20260426T032001
CREATED:20250722T133759Z
LAST-MODIFIED:20250722T134343Z
UID:2401-1745222400-1745600400@scetw.acm.org
SUMMARY:Robotic Process Automation (RPA) Training Program
DESCRIPTION:
URL:https://scetw.acm.org/event/robotic-process-automation-rpa-training-program/
CATEGORIES:Calendar,Events
END:VEVENT
BEGIN:VEVENT
DTSTART;TZID=UTC:20250505T080000
DTEND;TZID=UTC:20250613T170000
DTSTAMP:20260426T032001
CREATED:20250722T133909Z
LAST-MODIFIED:20250722T133909Z
UID:2403-1746432000-1749834000@scetw.acm.org
SUMMARY:Summer Internships Program 2025 on Machine Learning & Deep Learning
DESCRIPTION:
URL:https://scetw.acm.org/event/summer-internships-program-2025-on-machine-learning-deep-learning/
CATEGORIES:Calendar,Events
END:VEVENT
BEGIN:VEVENT
DTSTART;TZID=UTC:20250824T080000
DTEND;TZID=UTC:20250824T170000
DTSTAMP:20260426T032001
CREATED:20250824T104133Z
LAST-MODIFIED:20250824T105513Z
UID:2414-1756022400-1756054800@scetw.acm.org
SUMMARY:SCETW ACM-W Student presents: A 2-Week Engineering Conclave
DESCRIPTION:Theme: Rethinking Engineering Futures\n📅 25th August – 5th September 2025\n🕔 05:00 PM – 09:00 PM \nWe are delighted to invite you to join the Engineering Conclave organized by SCETW ACM-W Student Chapter. This 2-week event will feature inspiring sessions from eminent speakers and thought leaders\, aimed at reimagining the future of engineering. \n🔗 Register now by scanning the QR code on the poster!\n \nLet’s rethink and shape the future of engineering together!
URL:https://scetw.acm.org/event/scetw-acm-w-student-presents-a-2-week-engineering-conclave/
CATEGORIES:Events
END:VEVENT
END:VCALENDAR